BEGIN:VCALENDAR
VERSION:2.0
PRODID:-//eventon.com NONSGML v1.0//EN
CALSCALE:GREGORIAN
METHOD:PUBLISH
BEGIN:VEVENT
UID:69e4db95f3648
DTSTAMP:20260419T154141
DTSTART:20260420
DTEND:20260422
TZID:Europe/Brussels
LOCATION:
SUMMARY:Secretaries General and Directors meeting (online)
DESCRIPTION: Meeting between the Secretaries General and Directors of CEMR members CEMR members only\nhttps://ccre-cemr.org/events/secretaries-general-and-directors-meeting-online
URL:https://ccre-cemr.org/events/secretaries-general-and-directors-meeting-online
END:VEVENT
END:VCALENDAR